BEGIN:VCALENDAR
VERSION:2.0
PRODID:-//The Audubon Society of Ohio - ECPv6.15.20//NONSGML v1.0//EN
CALSCALE:GREGORIAN
METHOD:PUBLISH
X-ORIGINAL-URL:https://cincinnatiaudubon.org
X-WR-CALDESC:Events for The Audubon Society of Ohio
REFRESH-INTERVAL;VALUE=DURATION:PT1H
X-Robots-Tag:noindex
X-PUBLISHED-TTL:PT1H
BEGIN:VTIMEZONE
TZID:America/New_York
BEGIN:DAYLIGHT
TZOFFSETFROM:-0500
TZOFFSETTO:-0400
TZNAME:EDT
DTSTART:20240310T070000
END:DAYLIGHT
BEGIN:STANDARD
TZOFFSETFROM:-0400
TZOFFSETTO:-0500
TZNAME:EST
DTSTART:20241103T060000
END:STANDARD
BEGIN:DAYLIGHT
TZOFFSETFROM:-0500
TZOFFSETTO:-0400
TZNAME:EDT
DTSTART:20250309T070000
END:DAYLIGHT
BEGIN:STANDARD
TZOFFSETFROM:-0400
TZOFFSETTO:-0500
TZNAME:EST
DTSTART:20251102T060000
END:STANDARD
BEGIN:DAYLIGHT
TZOFFSETFROM:-0500
TZOFFSETTO:-0400
TZNAME:EDT
DTSTART:20260308T070000
END:DAYLIGHT
BEGIN:STANDARD
TZOFFSETFROM:-0400
TZOFFSETTO:-0500
TZNAME:EST
DTSTART:20261101T060000
END:STANDARD
END:VTIMEZONE
BEGIN:VEVENT
DTSTART;TZID=America/New_York:20251019T080000
DTEND;TZID=America/New_York:20251019T130000
DTSTAMP:20260420T101947
CREATED:20250925T171915Z
LAST-MODIFIED:20250925T171915Z
UID:7828-1760860800-1760878800@cincinnatiaudubon.org
SUMMARY:2025 Audubon Society of Ohio Bird Course
DESCRIPTION:2025 ASO Bird Course \nThree Sunday Mornings\, 19th\, 26th & November 2nd\, 2025 \nHone your birding and identification skills by registering for the 36th annual Audubon Birding Course. Our local Cincinnati Audubon Society Chapter (ASO) has been sponsoring this class since 1987. The three-week course will be held on three consecutive Sunday mornings. This year’s dates are; October 19th\, October 26th and November 2nd. Father-son team Jay Stenger and Jack Stenger will again be this year’s instructors. Both Jay and Jack are well known and exceptionally knowledgeable birders. Jay has been an instructor for this course since its inception in 1987 and Jack for over 18 years. The course will be held at the Fernald Preserve Visitor Center. Fernald Preserve is located in northwestern Hamilton County. The entrance is located at 7400 Wiley Road\, about ¼ of a mile west of State Route 128. Follow the entrance road to the Visitor Center. You can visit the Fernald Preserve website for further information at https://www.energy.gov/lm/fernald-preserve-ohio-site \nEach class will begin at 8 AM with a casual class-room session that includes a continental breakfast. The classroom sessions will be followed by a field trip on the Preserves grounds or to a nearby local hot spot\, usually wrapping up about 1 PM. The field trip locations will be determined by current birding conditions and the interests of the participants. \nThrough discussions\, visual and audio presentations and field observations\, the course will particularly focus on sharpening identification skills. But the course will offer much more than that. When\, where and how to find birds in our area is also prioritized. Other course topics will include migration\, bird abundance and distribution\, habitat\, conservation\, local hotspots\, birding equipment and resources. The setting is informal and questions are encouraged. Jay and Jack also infuse a lot of fun\, levity and enthusiasm throughout.  \nThis course is geared towards all birding levels. While mid-level birders may gain the most from this course\, most birders\, beginners and experienced alike\, will find that this course will help hone their ID skills and add to their knowledge of local birds. Over 700 area birders have taken this course over the years and have found it entertaining and informative. The course is open to everyone\, including older kids if accompanied by an adult. Binoculars are required and a field guide will be useful to refer to in class and in the field. If you do not have a pair of binoculars\, the ASO can lend you a pair during the course. \nCourse fees are $20 for ASO members and $35 for non-members which include a $15 annual membership in ASO. The course will be limited to a maximum of 30 participants. To register and pay online use the following link \nhttps://cincinnatiaudubon.regfox.com/audubon-bird-class-2025 \n \n \nRegistration is limited to 30 participants. If the event is full\, email Jay Stenger at jaystenger1@gmail.com to be placed on a waiting list. If you have any questions contact Jay.  \n(Contributed by Jay Stenger)
URL:https://cincinnatiaudubon.org/event/2025-audubon-society-of-ohio-bird-course/
LOCATION:Fernald Preserve\, 7400 Wiley Road\, Hamilton\, OH\, 45013\, United States
END:VEVENT
END:VCALENDAR