BEGIN:VCALENDAR
VERSION:2.0
PRODID:-//The Audubon Society of Ohio - ECPv6.15.20//NONSGML v1.0//EN
CALSCALE:GREGORIAN
METHOD:PUBLISH
X-WR-CALNAME:The Audubon Society of Ohio
X-ORIGINAL-URL:https://cincinnatiaudubon.org
X-WR-CALDESC:Events for The Audubon Society of Ohio
REFRESH-INTERVAL;VALUE=DURATION:PT1H
X-Robots-Tag:noindex
X-PUBLISHED-TTL:PT1H
BEGIN:VTIMEZONE
TZID:America/New_York
BEGIN:DAYLIGHT
TZOFFSETFROM:-0500
TZOFFSETTO:-0400
TZNAME:EDT
DTSTART:20250309T070000
END:DAYLIGHT
BEGIN:STANDARD
TZOFFSETFROM:-0400
TZOFFSETTO:-0500
TZNAME:EST
DTSTART:20251102T060000
END:STANDARD
BEGIN:DAYLIGHT
TZOFFSETFROM:-0500
TZOFFSETTO:-0400
TZNAME:EDT
DTSTART:20260308T070000
END:DAYLIGHT
BEGIN:STANDARD
TZOFFSETFROM:-0400
TZOFFSETTO:-0500
TZNAME:EST
DTSTART:20261101T060000
END:STANDARD
BEGIN:DAYLIGHT
TZOFFSETFROM:-0500
TZOFFSETTO:-0400
TZNAME:EDT
DTSTART:20270314T070000
END:DAYLIGHT
BEGIN:STANDARD
TZOFFSETFROM:-0400
TZOFFSETTO:-0500
TZNAME:EST
DTSTART:20271107T060000
END:STANDARD
END:VTIMEZONE
BEGIN:VEVENT
DTSTART;TZID=America/New_York:20260426T090000
DTEND;TZID=America/New_York:20260426T113000
DTSTAMP:20260422T062214
CREATED:20260419T210650Z
LAST-MODIFIED:20260419T210650Z
UID:8154-1777194000-1777203000@cincinnatiaudubon.org
SUMMARY:Audubon SO Invitation - Remembering Ann Oliver
DESCRIPTION:Audubon SO Invitation – Remembering Ann Oliver \n  \nOn Sunday\, April 26 at 9:00 AM the Audubon Society of Ohio will be celebrating the life of Ann Oliver\, expert birder\, ASO board member\, champion for all birders and environmental causes. We will be dedicating a permanent bench in Ann’s honor. The bench is installed at Cardinal Land Conservancy’s Grail property in Loveland\, Ohio. This place was close to Ann’s heart as she was very active in Cardinal’s work\, but most importantly\, she married her husband Mike here. \n  \nWe will meet in the parking lot at 9:00 AM and move to the location of Ann’s bench. Here we will have a brief ceremony dedicating Ann’s bench. We will then have a walk around Cardinal land and enjoy the birds arriving on their spring journey north and local birds beginning their nesting season. \n  \nAfter the bird walk\, approximately 11:00 AM\, those who wish to stay can join us for refreshments. If you do plan on joining us for refreshments\, please RSVP by April 23 to tyrannus58@gmail.com so we can plan accordingly. \n  \nCardinal Land Conservancy Grail \n930 O’Bannonville Rd. \nLoveland\, OH   45140 \nThe meeting place can be found on Google Maps here: https://maps.app.goo.gl/iPcaZZBp42dd8Edp
URL:https://cincinnatiaudubon.org/event/audubon-so-invitation-remembering-ann-oliver/
LOCATION:Cardinal Land Conservancy Grail\, 930 O'Bannonville Rd.\, Loveland\, Ohio\, 45140
END:VEVENT
BEGIN:VEVENT
DTSTART;TZID=America/New_York:20260426T143000
DTEND;TZID=America/New_York:20260426T163000
DTSTAMP:20260422T062214
CREATED:20260412T143157Z
LAST-MODIFIED:20260412T143157Z
UID:8150-1777213800-1777221000@cincinnatiaudubon.org
SUMMARY:ASO Monthly Burnet Woods Nature Walk
DESCRIPTION:ASO Monthly Burnet Woods Nature Walks \nOur ASO chapter has two regular monthly field trips to Burnet Woods. These trips are conducted every month of the year and are always scheduled on the same days every month. Both trips are general nature walks.  The first trip\, which focuses on birds\, will be the first Sunday of the month.  The second trip\, which focuses on plants\, will be on the last Sunday of the month. \nApril’s plant walk will be Sunday April 26\, 2026 at 2:30 PM and will meet at the Trailside Nature Center in the Park.  This walk will be led by ASO board member Denis Conover: Denis Conover (513) 390-0863\, conovedg@hotmail.com
URL:https://cincinnatiaudubon.org/event/aso-monthly-burnet-woods-nature-walk/
LOCATION:Burnet Woods\, 3251 Brookline Ave\, Cincinnat\, Ohio\, 45220\, United States
END:VEVENT
BEGIN:VEVENT
DTSTART;TZID=America/New_York:20260503T090000
DTEND;TZID=America/New_York:20260503T230000
DTSTAMP:20260422T062214
CREATED:20260412T144218Z
LAST-MODIFIED:20260412T144218Z
UID:8152-1777798800-1777849200@cincinnatiaudubon.org
SUMMARY:ASO Monthly Burnet Woods Nature Walk
DESCRIPTION:ASO Monthly Burnet Woods Nature Walk \nOur ASO chapter has two regular monthly field trips to Burnet Woods. These trips are conducted every month of the year and are always scheduled on the same days every month. Both trips are general nature walks.  The first trip\, which focuses on birds\, will be the first Sunday of the month.  The second trip\, which focuses on plants\, will be on the last Sunday of the month. \nMay’s bird walk will be Sunday May 3\, 2026 beginning at 9:00 AM and will meet at the Trailside Nature Center in the Park. This walk will be led by ASO board member and VP Brian Keane:  Brian Keane\, (513) 961-4476\, keaneb@miamioh.edu
URL:https://cincinnatiaudubon.org/event/aso-monthly-burnet-woods-nature-walk-2/
LOCATION:Burnet Woods\, 3251 Brookline Ave\, Cincinnat\, Ohio\, 45220\, United States
END:VEVENT
END:VCALENDAR