BEGIN:VCALENDAR
VERSION:2.0
PRODID:-//The Audubon Society of Ohio - ECPv6.15.20//NONSGML v1.0//EN
CALSCALE:GREGORIAN
METHOD:PUBLISH
X-ORIGINAL-URL:https://cincinnatiaudubon.org
X-WR-CALDESC:Events for The Audubon Society of Ohio
REFRESH-INTERVAL;VALUE=DURATION:PT1H
X-Robots-Tag:noindex
X-PUBLISHED-TTL:PT1H
BEGIN:VTIMEZONE
TZID:America/New_York
BEGIN:DAYLIGHT
TZOFFSETFROM:-0500
TZOFFSETTO:-0400
TZNAME:EDT
DTSTART:20220313T070000
END:DAYLIGHT
BEGIN:STANDARD
TZOFFSETFROM:-0400
TZOFFSETTO:-0500
TZNAME:EST
DTSTART:20221106T060000
END:STANDARD
BEGIN:DAYLIGHT
TZOFFSETFROM:-0500
TZOFFSETTO:-0400
TZNAME:EDT
DTSTART:20230312T070000
END:DAYLIGHT
BEGIN:STANDARD
TZOFFSETFROM:-0400
TZOFFSETTO:-0500
TZNAME:EST
DTSTART:20231105T060000
END:STANDARD
BEGIN:DAYLIGHT
TZOFFSETFROM:-0500
TZOFFSETTO:-0400
TZNAME:EDT
DTSTART:20240310T070000
END:DAYLIGHT
BEGIN:STANDARD
TZOFFSETFROM:-0400
TZOFFSETTO:-0500
TZNAME:EST
DTSTART:20241103T060000
END:STANDARD
END:VTIMEZONE
BEGIN:VEVENT
DTSTART;TZID=America/New_York:20230908T160000
DTEND;TZID=America/New_York:20230910T103000
DTSTAMP:20260423T075802
CREATED:20230602T155011Z
LAST-MODIFIED:20230602T155011Z
UID:6573-1694188800-1694341800@cincinnatiaudubon.org
SUMMARY:Shawnee Fall Nature Safari
DESCRIPTION:Midwest Native Plant Society will present a fall weekend event\, centered at Shawnee State Park and including locations in Adams and Scioto Counties\, the weekend of September 8 through 10. Registration and fee is required. For full details\, and to register\, visit the Society’s web site\, at https://www.midwestnativeplants.org/NatureSafari. \nWe hope you will join us for this wonderful safari-style weekend immersed in nature. Our home base will be Shawnee Lodge & Conference Center located in Scioto County and surrounded by the beautiful Shawnee State Forest\, and only 20 minutes from many diverse and pretty amazing locations in Adams County/the Edge of Appalachia Preserve and the Sunshine Corridor. \nWe will focus on late summer blooming native flora and the bees and butterflies that are dependent on them. We are fortunate to have keynote speakers who are trained in entomology and the natural sciences. \nWe are looking forward to hearing Dr. Olivia Carril\, Jim McCormac\, Dr. Randall Mitchell\, and Judy Semroc. In addition\, these experts will be joining you in the field for Saturday daytime trips and Friday and Saturday evening events. \nOur daytime and evening field trips are with skilled and experienced leaders to help you learn and to explore the flora and fauna of the hills of Southern Ohio. There will be a focus on native plants and how they support our native wildlife\, but we will have themed trips for wildflowers\, trees\, native bees\, butterflies\, birds\, herps\, caterpillars\, moths and more! \n\nWe will have a variety of Nocturnal Activities\, such as astronomy\, viewing night insects with a focus on moths\, field trips to find caterpillars\, night scouting for insect songs and more.  Usually\, night trips will drive no further than 1/2 mile from the lodge.  Some evening activities are weather dependent.\nOn Sunday we close our conference with a keynote presentation. There will be a chance to register for a photography workshop (Limit 8). To visit on your own\, we compiled this list of unique habitats that we like to visit.
URL:https://cincinnatiaudubon.org/event/shawnee-fall-nature-safari/
LOCATION:Ohio
END:VEVENT
BEGIN:VEVENT
DTSTART;TZID=America/New_York:20230916T080000
DTEND;TZID=America/New_York:20230916T120000
DTSTAMP:20260423T075802
CREATED:20230907T163024Z
LAST-MODIFIED:20230907T163132Z
UID:6618-1694851200-1694865600@cincinnatiaudubon.org
SUMMARY:The Secret Life of Birds
DESCRIPTION:Join Adam McCosham\, licensed bird bander\, for this engaging outdoor program at Western Wildlife Corridor’s Kirby Nature Center\, on September 16 at 8:00 a.m. No matter if you are learning to ID birds\, or want to learn how they nest or how they migrate\, one way to learn more is to observe a bird banding session. Bird banding is the practice of safely applying a band or tag to part of the bird\, usually the leg\, for data collection and individual identification. Banding birds allows researchers to learn the migration patterns\, life span\, breeding territory\, and feeding areas of different bird species. Identifying these patterns and behaviors within bird populations plays a critical role in designing and implementing conservation programs for different species of birds. But not just anyone can place bands on birds\, you must have the required permits and approvals. \nJoin us for this interactive outdoor program for a chance to watch bander Adam McCosham in action\, while getting a chance to see various bird species up close and personal. You will learn how to identify birds in the hand as well as see how bird banders age\, weigh and sex the birds as well as how they affix the band. Banding offers an intimate glimpse into the behavior of birds. \nAdam is currently a Conservation and Parks Senior Program Manager with the Great Parks of Hamilton County. He has a degree in Natural Resource Management. Adams has spent the last four years training to band birds and loves passing on his knowledge of natural history to others. \nKirby Nature Center is located at 2 East Main Street\, Addyston OH 45001. The event is free\, but preregistration is required because space is limited. You can register at https://secure.givelively.org/event/western-wildlife-corridor-inc/the-secret-life-of-birds-478e3058-2a81-413b-8344-d4d5b39b1926.
URL:https://cincinnatiaudubon.org/event/the-secret-life-of-birds/
LOCATION:Kirby Nature Center\, 2 East Main Street\, Addyston\, OH\, 45001\, United States
END:VEVENT
BEGIN:VEVENT
DTSTART;TZID=America/New_York:20230920T190000
DTEND;TZID=America/New_York:20230920T210000
DTSTAMP:20260423T075802
CREATED:20230914T151117Z
LAST-MODIFIED:20230914T151117Z
UID:6623-1695236400-1695243600@cincinnatiaudubon.org
SUMMARY:Program - Birding Hamilton County's Great Parks
DESCRIPTION:This month’s Audubon program will feature Luke Thies on birding in the Great Parks of Hamilton County. There are 22 Great Parks in Hamilton County\, and all of them feature great birding. Luke has been an interpreter/naturalist there for the past two years\, and has an insider’s knowledge about where and when to visit to find birds. \nWe’ll meet at Sharon Woods Visitor Center on Wednesday\, September 20\, at 7:00 p.m. The Visitor Center is located at 11450 Lebanon Road (U.S. Route 42)\, Sharonville\, Ohio\, about 3/4 mile south of Interstate 275.
URL:https://cincinnatiaudubon.org/event/program-birding-hamilton-countys-great-parks/
LOCATION:Ohio
END:VEVENT
BEGIN:VEVENT
DTSTART;TZID=America/New_York:20230923T080000
DTEND;TZID=America/New_York:20230923T120000
DTSTAMP:20260423T075802
CREATED:20230914T144708Z
LAST-MODIFIED:20230914T144708Z
UID:6621-1695456000-1695470400@cincinnatiaudubon.org
SUMMARY:Field Trip - Fall Songbird Migration
DESCRIPTION:Fall Songbird Migration \nLocation: Mt. Airy Forest \nSaturday\, September 23\, 2023 \nMeet:  At 8:00 a.m. in the parking lot at Everybody’s Tree House on Trail Ridge Road in Mt. Airy Forest (see directions below). \nLeader: Jack Stenger\, (513) 503-3389\, jackstenger@gmail.com \n  \n  \nFall songbird migration will be near peak on this morning walk\, and both residents and migrant songbirds should abound. Our trip leader will be Jack Stenger. Jack is an expert birder\, a skilled naturalist and a long time ASO advocate. His field skills\, particularly his recognition of bird calls and songs\, are off the charts. With Jack’s help we expect to find many species of warblers as well as many other songbirds including flycatchers\, vireos\, swallows\, thrushes\, tanagers\, sparrows\, grosbeaks\, and buntings among others. Hawks\, cuckoos\, hummingbirds and woodpeckers will be present and even Wild Turkeys are likely. \n  \nMt. Airy Forest is a large City of Cincinnati Park that consists of 1\,459 acres of mostly woodlands that range from mature forest\, mixed conifer-deciduous woodlands\, pine groves\, woodland edges\, tree lined streams\, open park land and an arboretum. There are miles of hiking trails and roadsides\, making birding access easy. Mt. Airy also acts as a “migrant trap” during spring and fall\, as from the sky this large “island” of green stands out from the surrounding urban sea and thus attracts many birds. \n  \nJacks plan is to walk and bird around at least a few different sections of the park\, beginning at the well-marked and very obvious Everybody’s Tree House. Other than to move from one section of the park to another\, this trip will consist mostly of walking. Most of the area is relatively flat and walking will be at a leisurely birders pace. Restrooms are available in the park. If you expect to see birds binoculars are necessary. Water and comfortable shoes will make your walk more enjoyable. The trip will break up around noon. If you have any questions feel free to contact Jack. \n  \nDirections: Mt. Airy Forest is located at 5083 Colerain Avenue. To get to our meeting spot from the Mt. Airy Forest Colerain entrance\, turn into the park onto Blue Spruce Road and immediately turn left onto Trail Ridge Road. Drive .4 tenths of a mile on Trail Ridge Road to the parking lot for the Everybody’s Tree House. \n  \nVisit the Mt. Airy Forest website for further information. \nhttps://www.cincinnati-oh.gov/cincyparks/visit-a-park/find-a-parkfacility/mt-airy-forest/ \n  \n(Contributed by Jay Stenger)
URL:https://cincinnatiaudubon.org/event/field-trip-fall-songbird-migration/
LOCATION:Ohio
END:VEVENT
END:VCALENDAR